BEGIN:VCALENDAR
VERSION:2.0
PRODID:-// - ECPv6.15.17//NONSGML v1.0//EN
CALSCALE:GREGORIAN
METHOD:PUBLISH
X-ORIGINAL-URL:https://mck-tm.pl
X-WR-CALDESC:Wydarzenia dla 
REFRESH-INTERVAL;VALUE=DURATION:PT1H
X-Robots-Tag:noindex
X-PUBLISHED-TTL:PT1H
BEGIN:VTIMEZONE
TZID:Europe/Warsaw
BEGIN:DAYLIGHT
TZOFFSETFROM:+0100
TZOFFSETTO:+0200
TZNAME:CEST
DTSTART:20250330T010000
END:DAYLIGHT
BEGIN:STANDARD
TZOFFSETFROM:+0200
TZOFFSETTO:+0100
TZNAME:CET
DTSTART:20251026T010000
END:STANDARD
BEGIN:DAYLIGHT
TZOFFSETFROM:+0100
TZOFFSETTO:+0200
TZNAME:CEST
DTSTART:20260329T010000
END:DAYLIGHT
BEGIN:STANDARD
TZOFFSETFROM:+0200
TZOFFSETTO:+0100
TZNAME:CET
DTSTART:20261025T010000
END:STANDARD
BEGIN:DAYLIGHT
TZOFFSETFROM:+0100
TZOFFSETTO:+0200
TZNAME:CEST
DTSTART:20270328T010000
END:DAYLIGHT
BEGIN:STANDARD
TZOFFSETFROM:+0200
TZOFFSETTO:+0100
TZNAME:CET
DTSTART:20271031T010000
END:STANDARD
END:VTIMEZONE
BEGIN:VEVENT
DTSTART;TZID=Europe/Warsaw:20260321T090000
DTEND;TZID=Europe/Warsaw:20260321T160000
DTSTAMP:20260421T132412
CREATED:20260313T130214Z
LAST-MODIFIED:20260313T130214Z
UID:27433-1774083600-1774108800@mck-tm.pl
SUMMARY:Powitanie wiosny w Skansenie Rzeki Pilicy
DESCRIPTION:Już 21 marca w Skansenie Rzeki Pilicy powitamy wiosnę tak\, jak robiono to dawniej – z obrzędami\, rękodziełem i wspólną atmosferą przy ognisku.Przejdź się wiosenną aleją Marzann\, poznaj ludowe zwyczaje znad Pilicy i zobacz\, jak natura i tradycja splatają się w jedno wyjątkowe wydarzenie.\n\n\n\nW programie m.in.:\n• otwarcie wystawy czasowej „Między tradycją a naturą – wiosenne zwyczaje ludowe nad Pilicą”\n• kreatywne warsztaty i stoiska rękodzielnicze\n• aromatyczna herbatka dla każdego\n• wspólne ognisko na powitanie wiosny (kiełbasa we własnym zakresie)\n\n\nWstęp według obowiązującego cennika.\nBilety dostępne online oraz w kasie Skansenu (do godz. 15).
URL:https://mck-tm.pl/kalendarz/powitanie-wiosny-w-skansenie-rzeki-pilicy/
ATTACH;FMTTYPE=image/png:https://mck-tm.pl/wp-content/uploads/2026/03/MEDIA-wystawa-powitanie-wiosny-skansen.png
END:VEVENT
BEGIN:VEVENT
DTSTART;TZID=Europe/Warsaw:20260321T100000
DTEND;TZID=Europe/Warsaw:20260321T140000
DTSTAMP:20260421T132412
CREATED:20260225T131525Z
LAST-MODIFIED:20260306T133510Z
UID:26477-1774087200-1774101600@mck-tm.pl
SUMMARY:II Turniej Tenisa Stołowego "Secik"
DESCRIPTION:Wydarzenie skierowane jest do uczniów klas IV–VIII\, którzy chcą sprawdzić swoje umiejętności przy stole tenisowym i zmierzyć się z rówieśnikami w pełnej emocji rywalizacji o Puchar Dyrektora Miejskiego Centrum Kultury. \n \nJuż 21 marca (sobota) o godz. 10:00 w hali sportowej ZS-P nr 8 ul. Gminna 5/9\, spotkają się młodzi miłośnicy tenisa stołowego\, by stanąć do rywalizacji w II Turnieju Tenisa Stołowego „Secik” o Puchar Dyrektora Miejskiego Centrum Kultury.  System rozgrywek będzie uzależniony od liczby zgłoszeń. \nCelem turnieju jest popularyzacja tenisa stołowego wśród dzieci i młodzieży oraz uświadamianie potrzeby ruchu w życiu codziennym. System rozgrywek będzie uzależniony od liczy zgłoszeń. Warunkiem wzięcia udziału w turnieju jest akceptacja regulaminu\, wypełnienie karty uczestnictwa\, dokonanie opłaty do 18 marca. \nWpisowe wynosi 20 zł\, a płatności należy dokonać do 18 marca. Zapisy prowadzone są w siedzibie Miejskiego Centrum Kultury przy pl. Kościuszki 18 oraz online przez stronę strefazajec.pl. \nRegulamin turnieju: Regulamin Secik2026 \nKarta uczestnictwa: karta uczestnictwa SECIK2026 \nLiczba miejsc jest ograniczona\, więc nie zwlekaj z zapisami!
URL:https://mck-tm.pl/kalendarz/ii-turniej-tenisa-stolowego-secik-w-mck-za-pilica/
ATTACH;FMTTYPE=image/png:https://mck-tm.pl/wp-content/uploads/2026/02/MEDIA-SECIK-marzec-2026-2-1.png
END:VEVENT
BEGIN:VEVENT
DTSTART;TZID=Europe/Warsaw:20260321T100000
DTEND;TZID=Europe/Warsaw:20260322T170000
DTSTAMP:20260421T132412
CREATED:20260311T150124Z
LAST-MODIFIED:20260312T125403Z
UID:27318-1774087200-1774198800@mck-tm.pl
SUMMARY:I weekend Jarmarku Wielkanocnego 2026
DESCRIPTION:Prezydent Miasta Tomaszowa Mazowieckiego Marcin Witko oraz Dyrektor Miejskiego Centrum Kultury w Tomaszowie Mazowieckim Beata Stańczyk mają przyjemność zaprosić na Tomaszowski Jarmark Wielkanocny\, który odbędzie się na Placu Kościuszki w godzinach 10:00–17:00 w dwa marcowe przedświąteczne weekendy: 21–22 marca oraz 28–29 marca.\n\n\n\nNa odwiedzających czekać będą barwne dekoracje wielkanocne oraz unikatowe rękodzieło\, a o podniebienia zadbają regionalne przysmaki i świąteczne specjały\, którym towarzyszyć będzie wyjątkowa\, rodzinna atmosfera w samym sercu miasta.
URL:https://mck-tm.pl/kalendarz/i-weekend-jarmarku-wielkanocnego-2026/
ATTACH;FMTTYPE=image/png:https://mck-tm.pl/wp-content/uploads/2026/03/Na-strone-Jarmark-Wielkanocny.png
END:VEVENT
BEGIN:VEVENT
DTSTART;TZID=Europe/Warsaw:20260322T180000
DTEND;TZID=Europe/Warsaw:20260322T193000
DTSTAMP:20260421T132412
CREATED:20260225T111626Z
LAST-MODIFIED:20260225T111859Z
UID:26339-1774202400-1774207800@mck-tm.pl
SUMMARY:Między wierszami… – Piotr Goljat Trio w ramach XIX Tomaszowskich Teatraliów
DESCRIPTION:Między wierszami…” to najnowszy\, autorski projekt Piotra Goljata\, w którym muzyka spotyka się z poezją\, a słowo zyskuje nową\, dźwiękową przestrzeń.\n\n\nProgram koncertu tworzą autorskie kompozycje do wierszy wybitnych polskich poetów\, m.in. Adama Asnyka\, Bolesława Leśmiana czy Juliana Tuwima.\n\n\n\n \n\n 22.03.2026 r. (niedziela)\, godz. 18:00\n MCK Tkacz\, ul. Niebrowska 50\n Bilety dostępne w Sekretariacie Miejskiego Centrum Kultury przy Placu Kościuszki 18 i online.\n\n\n\nNa scenie wystąpi Piotr Goljat – śpiew\, fortepian i prowadzenie koncertu – artysta o niezwykłej wrażliwości i charyzmie. Współpracował m.in. z zespołem Rezerwat\, Elżbietą Adamiak\, Andrzejem Poniedzielskim i Jerzym Filarem. Autor albumów inspirowanych twórczością Juliana Tuwima oraz płyty Nieobecni?.\n\n\nTowarzyszyć mu będą:\nKamil Szewczyk – gitara\, Łódzki gitarzysta i pedagog. Współpracował z czołowymi artystami polskiej sceny muzycznej\, m.in. Arturem Gadowskim\, Kasią Popowską\, zespołami\nNormalsi i Liroy.\n\n\nPiotr Górka – kontrabas\, absolwent Instytutu Jazzu Akademii Muzycznej w Katowicach. Współpracował z wieloma wybitnymi artystami i zespołami w Polsce i za granicą. Koncertował na prestiżowych festiwalach na całym świecie\, ma na koncie ponad 30 nagranych płyt.\n\n\n\n„Między wierszami…” to koncert dla tych\, którzy cenią piękno słowa\, kameralną atmosferę i muzykę\, która zostaje z widzem na długo po ostatnim dźwięku.\n\n\n\nZapraszamy na Tomaszowskie Teatralia – święto teatru i spotkań z żywą sceną.\nWydarzenie objęte zostało Honorowym Patronatem Marszałka Województwa Łódzkiego Joanny Skrzydlewskiej oraz Patronatami Prezydenta Miasta Tomaszowa Mazowieckiego Marcina Witko\, Starosty Tomaszowskiego Dariusza Kowalczyka oraz Przewodniczącej Rady Miejskiej Tomaszowa Mazowieckiego Barbary Klatki.
URL:https://mck-tm.pl/kalendarz/miedzy-wierszami-piotr-goljat-trio-w-ramach-xix-tomaszowskich-teatraliow/
CATEGORIES:Muzyka
ATTACH;FMTTYPE=image/png:https://mck-tm.pl/wp-content/uploads/2026/02/MEDIA-Piotr-Goljat-Trio-koncert-1-scaled.png
END:VEVENT
BEGIN:VEVENT
DTSTART;TZID=Europe/Warsaw:20260322T180000
DTEND;TZID=Europe/Warsaw:20260328T180000
DTSTAMP:20260421T132412
CREATED:20260226T103145Z
LAST-MODIFIED:20260226T103145Z
UID:26943-1774202400-1774720800@mck-tm.pl
SUMMARY:XIX Tomaszowskie Teatralia
DESCRIPTION:22.03.2026 g. 18 – koncert “Między wierszami” – MCK Tkacz (wydarzenie biletowane)\n\n23.03.2026 g. 18.30 – spektakl „Pół na Pół” wyk. Piotr Szwedes i Piotr Polk\, reż. Wojciech Malajkat – MCK Tkacz (wydarzenie biletowane) \n24–26.03.2026 r. g. 10-15 – przegląd konkursowy w MCK Tkacz\n \n27.03.2026 g. 16 – Warsztaty aktorskie dla młodzieży i dorosłych – uczestników przeglądu XIX TT prowadzone przez Jagodę Jasnowską\n \n28.03.2026 g. 16 – Gala Finałowa − sala widowiskowa MCK Tkacz
URL:https://mck-tm.pl/kalendarz/xix-tomaszowskie-teatralia/
CATEGORIES:Teatr
ATTACH;FMTTYPE=image/png:https://mck-tm.pl/wp-content/uploads/2026/02/MEDIA-PLAKAT-ZBIOROWY-TEATRALIA-2026-scaled.png
END:VEVENT
BEGIN:VEVENT
DTSTART;TZID=Europe/Warsaw:20260323T183000
DTEND;TZID=Europe/Warsaw:20260323T200000
DTSTAMP:20260421T132412
CREATED:20260226T092651Z
LAST-MODIFIED:20260226T092724Z
UID:26874-1774290600-1774296000@mck-tm.pl
SUMMARY:„Pół na pół” - XIX Tomaszowskie Teatralia
DESCRIPTION:Z radością zapraszamy na kolejną edycję Tomaszowskich Teatraliów\, czyli artystycznych zdarzeń scenicznych.\nW ramach tegorocznych Teatraliów zaprezentowany zostanie spektakl „Pół na pół” – błyskotliwa\, czarna komedia w reżyserii Wojciecha Malajkata\, z udziałem Piotra Polka i Piotra Szwedesa.\n\n\n \n\n„Pół na pół” to przewrotna i inteligentna opowieść o rodzinnych relacjach\, w której śmiech nieustannie sąsiaduje z napięciem. Dwaj przyrodni bracia\, Robert i Dominik\, próbują ułożyć sobie życie\, jednak realizację ich planów skutecznie komplikuje matka. Z pozoru niewinny dylemat prowadzi do lawiny kłamstw\, zaskakujących zwrotów akcji i coraz bardziej absurdalnych sytuacji. To „dramat przebrany za komedię” – błyskotliwy\, pełen czarnego humoru i dialogów\, które bawią\, ale też zmuszają do refleksji.\nObok śmiechu pojawia się napięcie i groza\, przywodzące na myśl klimat rodem z Hitchcocka.\n\n\n\n23.03.2026 r. (poniedziałek)\, godz. 18:30\nMCK Tkacz\, ul. Niebrowska 50\n\n\nBilety na spektakl dostępne w Sekretariacie Miejskiego Centrum Kultury przy Placu Kościuszki 18 i online w serwisie biletyna.pl\nLink do biletów online: https://biletyna.pl/spektakl/Pol-na-pol\n\n\n\nZapraszamy na Tomaszowskie Teatralia – święto teatru i spotkań z żywą sceną.\nWydarzenie objęte zostało Honorowym Patronatem Marszałka Województwa Łódzkiego Joanny Skrzydlewskiej oraz Patronatami Prezydenta Miasta Tomaszowa Mazowieckiego Marcina Witko\, Starosty Tomaszowskiego Dariusza Kowalczyka oraz Przewodniczącej Rady Miejskiej Tomaszowa Mazowieckiego Barbary Klatki.
URL:https://mck-tm.pl/kalendarz/pol-na-pol-xix-tomaszowskie-teatralia/
CATEGORIES:Teatr
ATTACH;FMTTYPE=image/jpeg:https://mck-tm.pl/wp-content/uploads/2026/02/7e4dfeb72c0ad30c149b04dae0bf3970.jpg
END:VEVENT
BEGIN:VEVENT
DTSTART;TZID=Europe/Warsaw:20260324T100000
DTEND;TZID=Europe/Warsaw:20260324T133000
DTSTAMP:20260421T132412
CREATED:20260313T102732Z
LAST-MODIFIED:20260317T112232Z
UID:27424-1774346400-1774359000@mck-tm.pl
SUMMARY:I Dzień Przeglądu XIX Tomaszowskich Teatraliów
DESCRIPTION:
URL:https://mck-tm.pl/kalendarz/i-dzien-przegladu-xix-tomaszowskie-teatralia/
CATEGORIES:Teatr
ATTACH;FMTTYPE=image/png:https://mck-tm.pl/wp-content/uploads/2026/03/MEDIA-HARMONOGRAM-PRZEGLADU-TEATRALIA-2026-01-1.png
END:VEVENT
BEGIN:VEVENT
DTSTART;TZID=Europe/Warsaw:20260325T100000
DTEND;TZID=Europe/Warsaw:20260325T133000
DTSTAMP:20260421T132412
CREATED:20260313T102938Z
LAST-MODIFIED:20260317T112303Z
UID:27428-1774432800-1774445400@mck-tm.pl
SUMMARY:II Dzień Przeglądu XIX Tomaszowskich Teatraliów
DESCRIPTION:
URL:https://mck-tm.pl/kalendarz/ii-dzien-przegladu-xix-tomaszowskich-teatraliow/
CATEGORIES:Teatr
ATTACH;FMTTYPE=image/png:https://mck-tm.pl/wp-content/uploads/2026/03/MEDIA-HARMONOGRAM-PRZEGLADU-TEATRALIA-2026-02.png
END:VEVENT
BEGIN:VEVENT
DTSTART;TZID=Europe/Warsaw:20260326T100000
DTEND;TZID=Europe/Warsaw:20260326T130000
DTSTAMP:20260421T132412
CREATED:20260313T103015Z
LAST-MODIFIED:20260317T112325Z
UID:27430-1774519200-1774530000@mck-tm.pl
SUMMARY:III Dzień Przeglądu XIX Tomaszowskich Teatraliów
DESCRIPTION:
URL:https://mck-tm.pl/kalendarz/iii-dzien-przegladu-xix-tomaszowskich-teatraliow/
CATEGORIES:Teatr
ATTACH;FMTTYPE=image/png:https://mck-tm.pl/wp-content/uploads/2026/03/MEDIA-HARMONOGRAM-PRZEGLADU-TEATRALIA-2026-03.png
END:VEVENT
BEGIN:VEVENT
DTSTART;TZID=Europe/Warsaw:20260328T100000
DTEND;TZID=Europe/Warsaw:20260329T170000
DTSTAMP:20260421T132412
CREATED:20260311T150319Z
LAST-MODIFIED:20260312T125518Z
UID:27323-1774692000-1774803600@mck-tm.pl
SUMMARY:II weekend Jarmarku Wielkanocnego 2026
DESCRIPTION:Prezydent Miasta Tomaszowa Mazowieckiego Marcin Witko oraz Dyrektor Miejskiego Centrum Kultury w Tomaszowie Mazowieckim Beata Stańczyk mają przyjemność zaprosić na Tomaszowski Jarmark Wielkanocny\, który odbędzie się na Placu Kościuszki w godzinach 10:00–17:00 w dwa marcowe przedświąteczne weekendy: 21–22 marca oraz 28–29 marca.\n\n\n\nNa odwiedzających czekać będą barwne dekoracje wielkanocne oraz unikatowe rękodzieło\, a o podniebienia zadbają regionalne przysmaki i świąteczne specjały\, którym towarzyszyć będzie wyjątkowa\, rodzinna atmosfera w samym sercu miasta.
URL:https://mck-tm.pl/kalendarz/ii-weekend-jarmarku-wielkanocnego-2026/
CATEGORIES:Jarmark
ATTACH;FMTTYPE=image/png:https://mck-tm.pl/wp-content/uploads/2026/03/Na-strone-Jarmark-Wielkanocny.png
END:VEVENT
BEGIN:VEVENT
DTSTART;TZID=Europe/Warsaw:20260331T100000
DTEND;TZID=Europe/Warsaw:20260331T150000
DTSTAMP:20260421T132412
CREATED:20260305T074541Z
LAST-MODIFIED:20260305T074605Z
UID:27286-1774951200-1774969200@mck-tm.pl
SUMMARY:Eliminacje powiatowe 71. Ogólnopolskiego Konkursu Recytatorskiego
DESCRIPTION:Zapraszamy na wyjątkowe wydarzenie dla miłośników poezji i literatury!\n\nJuż 31 marca o godz. 10:00 w MCK Tkacz odbędą się eliminacje powiatowe 71. Ogólnopolskiego Konkursu Recytatorskiego. \n Miejskie Centrum Kultury w Tomaszowie Mazowieckim po raz kolejny będzie organizatorem eliminacji powiatowych – 71. Ogólnopolskiego Konkursu Recytatorskiego. Konkurs skierowany do pasjonatów poezji i literatury przeprowadzony będzie w formie czterech turniejów: recytatorskiego\, poezji śpiewanej\, teatrów jednego aktora oraz „wywiedzione ze słowa”. \n  \n\n\nTermin zgłoszeń:  26.03.2026 r.\n\nZgłoszenia można składać osobiście w siedzibie Miejskiego Centrum Kultury przy pl. Kościuszki 18\, w sekretariacie MCK Tkacz przy ul. Niebrowskiej 50 lub za pośrednictwem poczty elektronicznej pod adresem: zgloszenia@mck-tm.pl \nWstęp wolny dla publiczności! To wyjątkowa okazja\, by zobaczyć młodych artystów w akcji i poczuć magię słowa. Nie przegapcie.
URL:https://mck-tm.pl/kalendarz/eliminacje-powiatowe-71-ogolnopolskiego-konkursu-recytatorskiego/
CATEGORIES:Konkursy
ATTACH;FMTTYPE=image/png:https://mck-tm.pl/wp-content/uploads/2026/03/nowy-MEDIA-71-OKR-2026.png
END:VEVENT
END:VCALENDAR