BEGIN:VCALENDAR
VERSION:2.0
PRODID:-// - ECPv6.15.17//NONSGML v1.0//EN
CALSCALE:GREGORIAN
METHOD:PUBLISH
X-ORIGINAL-URL:https://mck-tm.pl
X-WR-CALDESC:Wydarzenia dla 
REFRESH-INTERVAL;VALUE=DURATION:PT1H
X-Robots-Tag:noindex
X-PUBLISHED-TTL:PT1H
BEGIN:VTIMEZONE
TZID:Europe/Warsaw
BEGIN:DAYLIGHT
TZOFFSETFROM:+0100
TZOFFSETTO:+0200
TZNAME:CEST
DTSTART:20250330T010000
END:DAYLIGHT
BEGIN:STANDARD
TZOFFSETFROM:+0200
TZOFFSETTO:+0100
TZNAME:CET
DTSTART:20251026T010000
END:STANDARD
BEGIN:DAYLIGHT
TZOFFSETFROM:+0100
TZOFFSETTO:+0200
TZNAME:CEST
DTSTART:20260329T010000
END:DAYLIGHT
BEGIN:STANDARD
TZOFFSETFROM:+0200
TZOFFSETTO:+0100
TZNAME:CET
DTSTART:20261025T010000
END:STANDARD
BEGIN:DAYLIGHT
TZOFFSETFROM:+0100
TZOFFSETTO:+0200
TZNAME:CEST
DTSTART:20270328T010000
END:DAYLIGHT
BEGIN:STANDARD
TZOFFSETFROM:+0200
TZOFFSETTO:+0100
TZNAME:CET
DTSTART:20271031T010000
END:STANDARD
END:VTIMEZONE
BEGIN:VEVENT
DTSTART;TZID=Europe/Warsaw:20260502T120000
DTEND;TZID=Europe/Warsaw:20260502T180000
DTSTAMP:20260423T123251
CREATED:20260417T102544Z
LAST-MODIFIED:20260417T102544Z
UID:27785-1777723200-1777744800@mck-tm.pl
SUMMARY:RetroMajówka w Skansenie Rzeki Pilicy
DESCRIPTION:Już 2 maja w Skansenie Rzeki Pilicy w Tomaszowie Mazowieckim\, w godz. 12:00–18:00 zapraszamy na RetroMajówkę – wydarzenie\, które łączy pokolenia i pozwala choć na chwilę zwolnić tempo.\nW programie m.in.:  wystawa „Skarby PRL-u w Skansenie”\, koncerty i występy artystyczne\, klimatyczne ognisko przez cały dzień\, warsztaty i kreatywne aktywności\, dmuchańce dla najmłodszych\, pokaz ratownictwa OSP Tomaszów Mazowiecki – Białobrzegi\n\n\nO 17.00 SCENA ROZGRZEJE SIĘ DO CZERWONOŚCI – WYSTĄPI GADOWSKA Z GACHAMI!\n\n\n\n Bilety już od 12 zł – wstęp według obowiązującego cennika\n\n\nZabierz rodzinę\, znajomych albo po prostu dobry humor i daj się porwać tej wyjątkowej atmosferze. Retro to nie tylko styl – to sposób na świetnie spędzony dzień!\n\n\n\nWydarzenie objęte zostało Honorowym Patronatem Marszałka Województwa Łódzkiego Joanny Skrzydlewskiej\, Patronatami Prezydenta Miasta Tomaszowa Mazowieckiego Marcina Witko oraz Starosty Tomaszowskiego Dariusza Kowalczyka.
URL:https://mck-tm.pl/kalendarz/retromajowka-w-skansenie-rzeki-pilicy/
ATTACH;FMTTYPE=image/png:https://mck-tm.pl/wp-content/uploads/2026/04/eventcover-scaled.png
END:VEVENT
BEGIN:VEVENT
DTSTART;TZID=Europe/Warsaw:20260513T180000
DTEND;TZID=Europe/Warsaw:20260513T200000
DTSTAMP:20260423T123252
CREATED:20260422T075817Z
LAST-MODIFIED:20260422T075846Z
UID:27806-1778695200-1778702400@mck-tm.pl
SUMMARY:The Last Showgirl w kinie KiTKA
DESCRIPTION:To już ostatni seans w tym sezonie kulturalno-edukacyjnym w cyklu Ale Kino w Kinie KiTKA!\n\n\nZapraszamy na film „The Last Showgirl”.\n\n\n\n 13.05.2026\, godz. 18:00\, Miejskie Centrum Kultury Tkacz\n\n\n\nGwiazda Pameli Anderson rozbłyska na nowo – w poruszającej roli tancerki z Las Vegas\, która po latach pracy na scenie musi zmierzyć się z jej końcem. Shelley nie zamierza jednak z niej zejść\, walczy o swoje marzenia i relację z córką\, udowadniając\, że nigdy nie jest za późno na nowy początek.\nHołdem dla Anderson i jej historii jest napisana na potrzeby filmu\, nominowana do Złotego Globu piosenka Miley Cyrus „Beautiful That Way”.\n\n\n\n Bilety dostępne w sekretariacie MCK (plac Kościuszki 18) oraz online.\n\n\nNie przegapcie finałowego spotkania w naszym cyklu.
URL:https://mck-tm.pl/kalendarz/the-last-showgirl-w-kinie-kitka/
CATEGORIES:Film
ATTACH;FMTTYPE=image/png:https://mck-tm.pl/wp-content/uploads/2026/04/MEDIA_film-Ale-Kino-2025-2026-08-scaled.png
END:VEVENT
BEGIN:VEVENT
DTSTART;TZID=Europe/Warsaw:20260528T100000
DTEND;TZID=Europe/Warsaw:20260529T160000
DTSTAMP:20260423T123252
CREATED:20260423T082159Z
LAST-MODIFIED:20260423T082159Z
UID:27824-1779962400-1780070400@mck-tm.pl
SUMMARY:45. Tomaszowski Mały Konkurs Recytatorski – Turniej Powiatowy
DESCRIPTION:Zapraszamy na eliminacje powiatowe jednej z najpiękniejszych imprez słowa mówionego!\nPrzez dwa dni scena Miejskiego Centrum Kultury Tkacz zabrzmi głosem młodych recytatorów z całego powiatu tomaszowskiego. \n\n\n28–29 maja 2026\, godz. 10:00–16:00Miejskie Centrum Kultury Tkacz\, ul. Niebrowska 50 Tomaszów MazowieckiWstęp wolny! \nW programie:\nTurniej recytatorski i turniej „wywiedzione ze słowa”Uczestnicy w trzech grupach wiekowych:\n‒ klasy IV-VI ‒ 28.05.2026 r.\, godz. 10 (czwartek)\n‒ klasy I-III ‒ 29.05.2026 r.\, godz. 10 (piątek)\n‒ klasy VII-VIII ‒ 29.05.2026 r.\, godz. 14 (piątek) \nKarty zgłoszenia należy dostarczyć do 15 maja 2026 r. na adres: Miejskie Centrum Kultury\, Plac Kościuszki 18\, 97-200\nTomaszów Mazowiecki lub przesłać drogą elektroniczną na adres e-mail: zgloszenia@mck-tm.pl. \nWydarzenie objęte zostało Patronatem Prezydenta Miasta Tomaszowa Mazowieckiego Marcina Witko oraz Starosty Tomaszowskiego Dariusza Kowalczyka. \nRozstrzygnięcie konkursu oraz gala wręczenia nagród odbędą się 2 czerwca o godzinie 18:00 w Miejskim Centrum Kultury Tkacz. \nTo wyjątkowa okazja\, by poczuć moc słowa i zobaczyć młode talenty w akcji. \nREGULAMIN-45-TMKR \nKARTA-ZGLOSZENIA-45-TMKR
URL:https://mck-tm.pl/kalendarz/45-tomaszowski-maly-konkurs-recytatorski-turniej-powiatowy/
CATEGORIES:Konkursy
ATTACH;FMTTYPE=image/png:https://mck-tm.pl/wp-content/uploads/2026/04/MEDIA-45-Maly-Konkurs-Recytatorski-scaled.png
END:VEVENT
END:VCALENDAR