BEGIN:VCALENDAR
VERSION:2.0
PRODID:-// - ECPv6.15.17//NONSGML v1.0//EN
CALSCALE:GREGORIAN
METHOD:PUBLISH
X-ORIGINAL-URL:https://mck-tm.pl
X-WR-CALDESC:Wydarzenia dla 
REFRESH-INTERVAL;VALUE=DURATION:PT1H
X-Robots-Tag:noindex
X-PUBLISHED-TTL:PT1H
BEGIN:VTIMEZONE
TZID:Europe/Warsaw
BEGIN:DAYLIGHT
TZOFFSETFROM:+0100
TZOFFSETTO:+0200
TZNAME:CEST
DTSTART:20250330T010000
END:DAYLIGHT
BEGIN:STANDARD
TZOFFSETFROM:+0200
TZOFFSETTO:+0100
TZNAME:CET
DTSTART:20251026T010000
END:STANDARD
BEGIN:DAYLIGHT
TZOFFSETFROM:+0100
TZOFFSETTO:+0200
TZNAME:CEST
DTSTART:20260329T010000
END:DAYLIGHT
BEGIN:STANDARD
TZOFFSETFROM:+0200
TZOFFSETTO:+0100
TZNAME:CET
DTSTART:20261025T010000
END:STANDARD
BEGIN:DAYLIGHT
TZOFFSETFROM:+0100
TZOFFSETTO:+0200
TZNAME:CEST
DTSTART:20270328T010000
END:DAYLIGHT
BEGIN:STANDARD
TZOFFSETFROM:+0200
TZOFFSETTO:+0100
TZNAME:CET
DTSTART:20271031T010000
END:STANDARD
END:VTIMEZONE
BEGIN:VEVENT
DTSTART;TZID=Europe/Warsaw:20260418T093000
DTEND;TZID=Europe/Warsaw:20260418T140000
DTSTAMP:20260423T105936
CREATED:20260401T124119Z
LAST-MODIFIED:20260407T125207Z
UID:27618-1776504600-1776520800@mck-tm.pl
SUMMARY:II Turniej Tenisa Stołowego NET
DESCRIPTION:Już 18 kwietnia (sobota) o godz. 9:30 w hali sportowej ZS-P nr 8 przy ul. Gminnej 5/9 w Tomaszowie Mazowieckim spotkają się miłośnicy tenisa stołowego\, by stanąć do rywalizacji w II Turnieju Tenisa Stołowego NET o Puchar Dyrektora Miejskiego Centrum Kultury w Tomaszowie Mazowieckim.\nWydarzenie skierowane jest do wszystkich pasjonatów tej dyscypliny – bez względu na wiek – którzy chcą sprawdzić swoje umiejętności i zmierzyć się z innymi w sportowej atmosferze. \nSystem rozgrywek będzie uzależniony od liczby zgłoszeń. \nKategoria wiekowa: OPEN.\nWpisowe wynosi 30 zł\, a płatności należy dokonać do 16 kwietnia. Zapisy prowadzone są w siedzibie MCK przy pl. Kościuszki 18 oraz online przez stronę strefazajec.pl. \nNa uczestników czekają puchary\, medale oraz nagrody dla najlepszych zawodników.\nLiczba miejsc jest ograniczona\, więc nie zwlekaj z zapisami! \nRegulamin Turnieju: Regulamin __Net2026 \nKarta uczestnictwa: Karta uczestnictwa NET2026  \nWięcej informacji pod numerem telefonu: 44 712-23-69.
URL:https://mck-tm.pl/kalendarz/ii-turniej-tenisa-stolowego-net/
CATEGORIES:Sport
ATTACH;FMTTYPE=image/png:https://mck-tm.pl/wp-content/uploads/2026/04/MEDIA-NET-marzec-2026-scaled.png
END:VEVENT
END:VCALENDAR