BEGIN:VCALENDAR
VERSION:2.0
PRODID:-// - ECPv6.15.17//NONSGML v1.0//EN
CALSCALE:GREGORIAN
METHOD:PUBLISH
X-ORIGINAL-URL:https://mck-tm.pl
X-WR-CALDESC:Wydarzenia dla 
REFRESH-INTERVAL;VALUE=DURATION:PT1H
X-Robots-Tag:noindex
X-PUBLISHED-TTL:PT1H
BEGIN:VTIMEZONE
TZID:Europe/Warsaw
BEGIN:DAYLIGHT
TZOFFSETFROM:+0100
TZOFFSETTO:+0200
TZNAME:CEST
DTSTART:20250330T010000
END:DAYLIGHT
BEGIN:STANDARD
TZOFFSETFROM:+0200
TZOFFSETTO:+0100
TZNAME:CET
DTSTART:20251026T010000
END:STANDARD
BEGIN:DAYLIGHT
TZOFFSETFROM:+0100
TZOFFSETTO:+0200
TZNAME:CEST
DTSTART:20260329T010000
END:DAYLIGHT
BEGIN:STANDARD
TZOFFSETFROM:+0200
TZOFFSETTO:+0100
TZNAME:CET
DTSTART:20261025T010000
END:STANDARD
BEGIN:DAYLIGHT
TZOFFSETFROM:+0100
TZOFFSETTO:+0200
TZNAME:CEST
DTSTART:20270328T010000
END:DAYLIGHT
BEGIN:STANDARD
TZOFFSETFROM:+0200
TZOFFSETTO:+0100
TZNAME:CET
DTSTART:20271031T010000
END:STANDARD
END:VTIMEZONE
BEGIN:VEVENT
DTSTART;TZID=Europe/Warsaw:20260409T180000
DTEND;TZID=Europe/Warsaw:20260409T190000
DTSTAMP:20260423T104227
CREATED:20260401T064331Z
LAST-MODIFIED:20260401T064331Z
UID:27609-1775757600-1775761200@mck-tm.pl
SUMMARY:Popołudnie z Teatrem "Małgorzata i Mistrz"
DESCRIPTION:Zapraszamy na wyjątkowe wydarzenie teatralne\, które dostarczy niezapomnianych emocji i artystycznych wrażeń.\n\n\n9 kwietnia 2026 r. (czwartek)\, godz. 18:00\nMiejskie Centrum Kultury Tkacz\, ul. Niebrowska 50\nWstęp wolny\n\n\n\nTego wieczoru odbędzie się premiera spektaklu „Małgorzata i Mistrz” w reżyserii Kariny Góry – poruszającej i pełnej symboliki opowieści inspirowanej jednym z najwybitniejszych dzieł literatury.\n\n\n\nSpektakl został doceniony podczas XIX Tomaszowskich Teatraliów\, gdzie jury przyznało GRAND PRIX FESTIWALU dla Teatru „Trzcina” działającego przy Miejskim Centrum Kultury w Tomaszowie Mazowieckim. To ogromne wyróżnienie potwierdza wysoki poziom artystyczny i zaangażowanie twórców.\n\n\n\nJeśli kochasz teatr\, dobrą historię i lokalne inicjatywy kulturalne – nie może Cię zabraknąć.\nPrzyjdź i przekonaj się\, dlaczego ten spektakl zachwycił festiwalowe jury.
URL:https://mck-tm.pl/kalendarz/popoludnie-z-teatrem-malgorzata-i-mistrz/
ATTACH;FMTTYPE=image/png:https://mck-tm.pl/wp-content/uploads/2026/04/a79f79d5-3b2c-456a-9d3e-e4a057b16c55-1-scaled.png
END:VEVENT
END:VCALENDAR